BEGIN:VCALENDAR
VERSION:2.0
PRODID:-//NEOMED - ECPv6.15.19//NONSGML v1.0//EN
CALSCALE:GREGORIAN
METHOD:PUBLISH
X-ORIGINAL-URL:https://www.neomed.edu
X-WR-CALDESC:Events for NEOMED
REFRESH-INTERVAL;VALUE=DURATION:PT1H
X-Robots-Tag:noindex
X-PUBLISHED-TTL:PT1H
BEGIN:VTIMEZONE
TZID:America/New_York
BEGIN:DAYLIGHT
TZOFFSETFROM:-0500
TZOFFSETTO:-0400
TZNAME:EDT
DTSTART:20240310T070000
END:DAYLIGHT
BEGIN:STANDARD
TZOFFSETFROM:-0400
TZOFFSETTO:-0500
TZNAME:EST
DTSTART:20241103T060000
END:STANDARD
BEGIN:DAYLIGHT
TZOFFSETFROM:-0500
TZOFFSETTO:-0400
TZNAME:EDT
DTSTART:20250309T070000
END:DAYLIGHT
BEGIN:STANDARD
TZOFFSETFROM:-0400
TZOFFSETTO:-0500
TZNAME:EST
DTSTART:20251102T060000
END:STANDARD
BEGIN:DAYLIGHT
TZOFFSETFROM:-0500
TZOFFSETTO:-0400
TZNAME:EDT
DTSTART:20260308T070000
END:DAYLIGHT
BEGIN:STANDARD
TZOFFSETFROM:-0400
TZOFFSETTO:-0500
TZNAME:EST
DTSTART:20261101T060000
END:STANDARD
END:VTIMEZONE
BEGIN:VEVENT
DTSTART;TZID=America/New_York:20250822T110000
DTEND;TZID=America/New_York:20250822T123000
DTSTAMP:20260423T002009
CREATED:20250729T185038Z
LAST-MODIFIED:20250729T185038Z
UID:145102-1755860400-1755865800@www.neomed.edu
SUMMARY:White Coat Ceremony for the Bitonte College of Dentistry
DESCRIPTION:NEOMED will formally welcome its inaugural class of dentistry students at 11 a.m.\, Friday\, Aug. 22\, in the NEW Center Ballroom by providing each with a white coat. \nThe ceremony is a major milestone for students as they transition into their new journey of lifelong learning and community service. \n\nWhite Coat Ceremony information.\nWe will stream the ceremony live on our Facebook page.
URL:https://www.neomed.edu/event/white-coat-ceremony-for-the-bitonte-college-of-dentistry/
ATTACH;FMTTYPE=image/jpeg:/wp-content/uploads/bitonte-college-of-dentistry-1024.jpg
END:VEVENT
BEGIN:VEVENT
DTSTART;TZID=America/New_York:20250822T150000
DTEND;TZID=America/New_York:20250822T163000
DTSTAMP:20260423T002009
CREATED:20240721T180927Z
LAST-MODIFIED:20250729T184644Z
UID:112189-1755874800-1755880200@www.neomed.edu
SUMMARY:White Coat Ceremony for the College of Pharmacy
DESCRIPTION:NEOMED will formally welcome first-year pharmacy students at 3 p.m.\, Friday\, Aug. 22 in the NEW Center Ballroom by providing each with a white coat. \nThe ceremony is a major milestone for students as they transition into their new journey of lifelong learning and community service. \n\nWhite Coat Ceremony information.\nWe will stream the ceremony live on our Facebook page.
URL:https://www.neomed.edu/event/white-coat-ceremony-for-the-college-of-pharmacy/
CATEGORIES:College of Pharmacy
ATTACH;FMTTYPE=image/jpeg:/wp-content/uploads/white-coat-ceremony-23-pharmacy.jpg
END:VEVENT
END:VCALENDAR