BEGIN:VCALENDAR
VERSION:2.0
PRODID:-//NEOMED - ECPv6.15.19//NONSGML v1.0//EN
CALSCALE:GREGORIAN
METHOD:PUBLISH
X-ORIGINAL-URL:https://www.neomed.edu
X-WR-CALDESC:Events for NEOMED
REFRESH-INTERVAL;VALUE=DURATION:PT1H
X-Robots-Tag:noindex
X-PUBLISHED-TTL:PT1H
BEGIN:VTIMEZONE
TZID:America/New_York
BEGIN:DAYLIGHT
TZOFFSETFROM:-0500
TZOFFSETTO:-0400
TZNAME:EDT
DTSTART:20250309T070000
END:DAYLIGHT
BEGIN:STANDARD
TZOFFSETFROM:-0400
TZOFFSETTO:-0500
TZNAME:EST
DTSTART:20251102T060000
END:STANDARD
BEGIN:DAYLIGHT
TZOFFSETFROM:-0500
TZOFFSETTO:-0400
TZNAME:EDT
DTSTART:20260308T070000
END:DAYLIGHT
BEGIN:STANDARD
TZOFFSETFROM:-0400
TZOFFSETTO:-0500
TZNAME:EST
DTSTART:20261101T060000
END:STANDARD
BEGIN:DAYLIGHT
TZOFFSETFROM:-0500
TZOFFSETTO:-0400
TZNAME:EDT
DTSTART:20270314T070000
END:DAYLIGHT
BEGIN:STANDARD
TZOFFSETFROM:-0400
TZOFFSETTO:-0500
TZNAME:EST
DTSTART:20271107T060000
END:STANDARD
END:VTIMEZONE
BEGIN:VEVENT
DTSTART;TZID=America/New_York:20260502T100000
DTEND;TZID=America/New_York:20260502T100000
DTSTAMP:20260423T012452
CREATED:20260123T213857Z
LAST-MODIFIED:20260420T192225Z
UID:148989-1777716000-1777716000@www.neomed.edu
SUMMARY:Commencement
DESCRIPTION:[vc_row][vc_column][vc_column_text]Northeast Ohio Medical University will celebrate the Class of 2026 at 10 a.m. May 2 at E.J. Thomas Hall in Akron. \nSee commencement details.[/vc_column_text][/vc_column][/vc_row]
URL:https://www.neomed.edu/event/commencement/
CATEGORIES:College of Medicine
ATTACH;FMTTYPE=image/jpeg:/wp-content/uploads/commencement-calendar-16-9.jpg
END:VEVENT
BEGIN:VEVENT
DTSTART;TZID=America/New_York:20260507T120000
DTEND;TZID=America/New_York:20260507T130000
DTSTAMP:20260423T012452
CREATED:20250317T125850Z
LAST-MODIFIED:20260415T172450Z
UID:129017-1778155200-1778158800@www.neomed.edu
SUMMARY:VITALS with Kirsten Frederiksen\, M.D.\, M.S.\, medical director of the Mayo Clinic Bariatric Center
DESCRIPTION:[vc_row][vc_column][vc_column_text]Kirsten Frederiksen\, M.D.\, M.S.\, medical director of the Mayo Clinic Bariatric Center in Jacksonville\, Fla.\, will join VITALS | Visionary Health Leadership in Action at noon\, Thursday\, May 7\, via Zoom. \nDr. Frederiksen is an internal medicine and obesity medicine specialist with over two decades of experience in clinical care. She completed medical school at the University of Rochester School of Medicine in Rochester\, N.Y.\, where she was elected to the AOA Medical Honor Society\, and holds a Master’s in Health Policy and Management from Harvard University. Dr. Frederiksen has served as founder and program director for obesity medicine services at two large health systems and as Director of Clinical Operations at a national all virtual obesity medicine practice. \nFree CME credit is available. \nVITALS is NEOMED’s health leadership speaker series presented in collaboration with University Hospitals. \nSave your seat! \n\n[/vc_column_text][/vc_column][/vc_row]
URL:https://www.neomed.edu/event/vitals-speaker-01/
ATTACH;FMTTYPE=image/jpeg:/wp-content/uploads/vitals-calendar-general-900.jpg
END:VEVENT
BEGIN:VEVENT
DTSTART;TZID=America/New_York:20260508T083000
DTEND;TZID=America/New_York:20260508T160000
DTSTAMP:20260423T012452
CREATED:20260410T190619Z
LAST-MODIFIED:20260410T190619Z
UID:150235-1778229000-1778256000@www.neomed.edu
SUMMARY:Northeast Ohio Health Care Transformation Forum
DESCRIPTION:[vc_row][vc_column][vc_column_text]NEOMED’s Northeast Ohio Health Care Transformation Forum is a premier regional event that brings together health care professionals\, clinicians\, educators\, public health leaders\, and system partners to advance meaningful\, actionable change across Northeast Ohio’s health care ecosystem. This year’s theme is Transforming the Future of Health Care Together!\, reinforcing our belief that radical collaboration will always lead to transformative and sustainable change. \nThe keynote speaker is Scott Becker\, a nationally recognized health care thought leader and the founder and publisher of Becker’s Healthcare\, this year’s event sponsor. Becker is widely known for his insights on hospital leadership\, health system strategy\, physician enterprise management\, and innovation across the health care landscape. \nThe forum\, free and open to all\, will be held from 8:30 a.m. – 4 p.m.\, Friday\, May 8\, 2026\, at Northeast Ohio Medical University’s NEW Center\, 4211 State Route 44 in Rootstown. \nSee details about the forum\, including how to register.[/vc_column_text][/vc_column][/vc_row]
URL:https://www.neomed.edu/event/northeast-ohio-health-care-transformation-forum/
ATTACH;FMTTYPE=image/jpeg:/wp-content/uploads/healthcare-transformation-forum-calendar.jpg
END:VEVENT
BEGIN:VEVENT
DTSTART;TZID=America/New_York:20260520T130000
DTEND;TZID=America/New_York:20260520T150000
DTSTAMP:20260423T012452
CREATED:20260410T141736Z
LAST-MODIFIED:20260410T191322Z
UID:140079-1779282000-1779289200@www.neomed.edu
SUMMARY:Dentistry Discovery Day for prospective students
DESCRIPTION:Dentistry Discovery Days are for prospective students and families to visit Northeast Ohio Medical University’s campus in Rootstown to learn more about the Bitonte College of Dentistry and our Doctor of Dental Surgery (D.D.S.) program. \nThe sessions include: \n\nA presentation about careers in dentistry\, pre-requisites for admission\, the admissions process\, our curriculum and more.\nA tour of our campus.\n\nRegister now via Calendly. \nRelated\n\nBitonte College of Dentistry\nAdmission to the college
URL:https://www.neomed.edu/event/dentistry-discovery-day-for-prospective-students-2/
ATTACH;FMTTYPE=image/jpeg:/wp-content/uploads/dentistry-calendar-700.jpg
END:VEVENT
END:VCALENDAR