BEGIN:VCALENDAR
VERSION:2.0
PRODID:-//NEOMED - ECPv6.15.19//NONSGML v1.0//EN
CALSCALE:GREGORIAN
METHOD:PUBLISH
X-ORIGINAL-URL:https://www.neomed.edu
X-WR-CALDESC:Events for NEOMED
REFRESH-INTERVAL;VALUE=DURATION:PT1H
X-Robots-Tag:noindex
X-PUBLISHED-TTL:PT1H
BEGIN:VTIMEZONE
TZID:America/New_York
BEGIN:DAYLIGHT
TZOFFSETFROM:-0500
TZOFFSETTO:-0400
TZNAME:EDT
DTSTART:20250309T070000
END:DAYLIGHT
BEGIN:STANDARD
TZOFFSETFROM:-0400
TZOFFSETTO:-0500
TZNAME:EST
DTSTART:20251102T060000
END:STANDARD
BEGIN:DAYLIGHT
TZOFFSETFROM:-0500
TZOFFSETTO:-0400
TZNAME:EDT
DTSTART:20260308T070000
END:DAYLIGHT
BEGIN:STANDARD
TZOFFSETFROM:-0400
TZOFFSETTO:-0500
TZNAME:EST
DTSTART:20261101T060000
END:STANDARD
BEGIN:DAYLIGHT
TZOFFSETFROM:-0500
TZOFFSETTO:-0400
TZNAME:EDT
DTSTART:20270314T070000
END:DAYLIGHT
BEGIN:STANDARD
TZOFFSETFROM:-0400
TZOFFSETTO:-0500
TZNAME:EST
DTSTART:20271107T060000
END:STANDARD
END:VTIMEZONE
BEGIN:VEVENT
DTSTART;TZID=America/New_York:20260323T093000
DTEND;TZID=America/New_York:20260323T113000
DTSTAMP:20260423T011447
CREATED:20250305T162653Z
LAST-MODIFIED:20260209T154520Z
UID:114146-1774258200-1774265400@www.neomed.edu
SUMMARY:Pharmacy Discovery Day for prospective students
DESCRIPTION:For future pharmacy students\, we offer small-group sessions on campus so you may learn more about our pharmacy programs and the profession. \nThe sessions include: \n\nA presentation introducing attendees to different areas of pharmacy along with an overview of our curriculum\nPre-requisite requirements and a student panel\nA tour of our campus in Rootstown\, located in the Greater Cleveland area\n\nRegister now via Calendly.
URL:https://www.neomed.edu/event/pharmacy-discovery-day-for-prospective-students-4/
CATEGORIES:College of Pharmacy
ATTACH;FMTTYPE=image/webp:/wp-content/uploads/pharmacy-students-1280-2025.webp
END:VEVENT
END:VCALENDAR