BEGIN:VCALENDAR
VERSION:2.0
PRODID:-//NEOMED - ECPv6.15.19//NONSGML v1.0//EN
CALSCALE:GREGORIAN
METHOD:PUBLISH
X-ORIGINAL-URL:https://www.neomed.edu
X-WR-CALDESC:Events for NEOMED
REFRESH-INTERVAL;VALUE=DURATION:PT1H
X-Robots-Tag:noindex
X-PUBLISHED-TTL:PT1H
BEGIN:VTIMEZONE
TZID:America/New_York
BEGIN:DAYLIGHT
TZOFFSETFROM:-0500
TZOFFSETTO:-0400
TZNAME:EDT
DTSTART:20240310T070000
END:DAYLIGHT
BEGIN:STANDARD
TZOFFSETFROM:-0400
TZOFFSETTO:-0500
TZNAME:EST
DTSTART:20241103T060000
END:STANDARD
BEGIN:DAYLIGHT
TZOFFSETFROM:-0500
TZOFFSETTO:-0400
TZNAME:EDT
DTSTART:20250309T070000
END:DAYLIGHT
BEGIN:STANDARD
TZOFFSETFROM:-0400
TZOFFSETTO:-0500
TZNAME:EST
DTSTART:20251102T060000
END:STANDARD
BEGIN:DAYLIGHT
TZOFFSETFROM:-0500
TZOFFSETTO:-0400
TZNAME:EDT
DTSTART:20260308T070000
END:DAYLIGHT
BEGIN:STANDARD
TZOFFSETFROM:-0400
TZOFFSETTO:-0500
TZNAME:EST
DTSTART:20261101T060000
END:STANDARD
END:VTIMEZONE
BEGIN:VEVENT
DTSTART;VALUE=DATE:20250628
DTEND;VALUE=DATE:20250629
DTSTAMP:20260423T031320
CREATED:20250509T204330Z
LAST-MODIFIED:20250509T204330Z
UID:143292-1751068800-1751155199@www.neomed.edu
SUMMARY:NEOMED Class of 1990 Reunion
DESCRIPTION:Join us in Cleveland\, Ohio for the NEOMED College of Medicine Class of 1990 the weekend of June 27-29\, 2025. \nHighlights include: \n\nFriday evening\, June 27 | Cleveland Guardians vs. St. Louis Cardinals\n\nGame start time 7 p.m.\nThese are group tickets so we may all sit together in the same section\n$52/ticket – deadline to register is May 23\, 2025.\nTickets will be provided via the MLB Ballpark App (no paper tickets). You will receive an email around June 1 notifying you that your tickets have been sent through the app.\n\n\nSaturday\, June 28 |Day – Explore Cleveland\n\nThis is a chance to explore and enjoy Cleveland on your own\, or with alumni friends. A few ideas include:\n\nWest Side Market\nThe Cleveland Musuem of Art\nLake View Cemetery\n\n\n\n\nSaturday\, June 28 | Night – Reunion Dinner with a welcome from NEOMED staff\n\n$60/ticket\nEvent start is 6 p.m.\nLocation: Taza\, 1400 West 6th St. Cleveland\, OH 44113\nMeal: Includes appetizers\, dinner buffet\, non-alcoholic beverages. Cash bar is available.\nValet parking is available; $20/vehicle\, plus tip\nAdjacent surface lots and meters are available. Reminder: Cash is needed to park in many downtown locations.\nRegistration deadline is June 13\n\n\nSunday\, June 29 | Brunch (on your own)\n\nA chance to arrange to meet up with alumni friends at one of the many Cleveland area restaurant options.\n\n\n\n 
URL:https://www.neomed.edu/event/
CATEGORIES:College of Medicine
ATTACH;FMTTYPE=image/jpeg:/wp-content/uploads/class-of-1990-scaled.jpeg
END:VEVENT
END:VCALENDAR